BEGIN:VCALENDAR
VERSION:2.0
PRODID:-//pretix//Ymaginnation_Tickets//
BEGIN:VTIMEZONE
TZID:Europe/Paris
BEGIN:STANDARD
DTSTART:20001029T040000
RRULE:FREQ=YEARLY;BYDAY=-1SU;BYMONTH=10
TZNAME:CET
TZOFFSETFROM:+0200
TZOFFSETTO:+0100
END:STANDARD
BEGIN:DAYLIGHT
DTSTART:20000326T030000
RRULE:FREQ=YEARLY;BYDAY=-1SU;BYMONTH=3
TZNAME:CEST
TZOFFSETFROM:+0100
TZOFFSETTO:+0200
END:DAYLIGHT
END:VTIMEZONE
BEGIN:VEVENT
UID:pretix-ymg-autun-n8gqg-7-22502@reza.ymaginnation.com
DTSTART;TZID=Europe/Paris:20260328T140000
DTEND;TZID=Europe/Paris:20260328T150000
DESCRIPTION:Tickets : https://reza.ymaginnation.com/ymg-autun/n8gqg-7/2250
 2/\nOrganisateur : Ymagine-Autun
DTSTAMP:20260421T163315Z
LOCATION:9 rue de l’Arbalète\, 71400 Autun\, France
SUMMARY:Ymagine 1h
END:VEVENT
END:VCALENDAR
